Workbook

Sheet Sheet1
A1: Place | B1: Bib # | C1: Name | D1: Gun Start | E1: Finish | F1: Gun Elapsed | G1: Age | H1: Gender | I1: Division
A2: 1 | B2: 315 | C2: Nathan Powell | D2: 0.38436944 | E2: 0.39645243 | F2: 17:23.96 | G2: 30 | H2: M | I2: 5k
A3: 2 | B3: 324 | C3: Timothy Misungwi | D3: 0.38436944 | E3: 0.39698125 | F3: 18:09.65 | G3: 21 | H3: M | I3: 5k
A4: 3 | B4: 304 | C4: Aaron Leffler | D4: 0.38436944 | E4: 0.3985353 | F4: 20:23.92 | G4: 23 | H4: M | I4: 5k
A5: 4 | B5: 345 | C5: Jeshua Sorensen | D5: 0.38436944 | E5: 0.39876053 | F5: 20:43.38 | G5: 18 | H5: M | I5: 5k
A6: 5 | B6: 341 | C6: Ron DuPreez | D6: 0.38436944 | E6: 0.39895104 | F6: 20:59.85 | G6: 74 | H6: M | I6: 5k
A7: 6 | B7: 310 | C7: Panankosi Mbunjwa | D7: 0.38436944 | E7: 0.39971829 | F7: 22:06.13 | G7: 53 | H7: M | I7: 5k
A8: 7 | B8: 335 | C8: Ryan Reinhardt | D8: 0.38436944 | E8: 0.39981713 | F8: 22:14.67 | G8: 19 | H8: M | I8: 5k
A9: 8 | B9: 348 | C9: Nathan Dale | D9: 0.38436944 | E9: 0.39996227 | F9: 22:27.22 | G9: 23 | H9: M | I9: 5k
A10: 9 | B10: 349 | C10: Micah Dale | D10: 0.38436944 | E10: 0.40019884 | F10: 22:47.65 | G10: 20 | H10: M | I10: 5k
A11: 10 | B11: 337 | C11: Eric Inae | D11: 0.38436944 | E11: 0.40031204 | F11: 22:57.43 | G11: 26 | H11: M | I11: 5k
A12: 11 | B12: 344 | C12: Erick Baez | D12: 0.38436944 | E12: 0.400314 | F12: 22:57.61 | G12: 26 | H12: M | I12: 5k
A13: 12 | B13: 309 | C13: Matija Kovacevic | D13: 0.38436944 | E13: 0.40054005 | F13: 23:17.13 | G13: 39 | H13: M | I13: 5k
... A47: 46 | B47: 321 | C47: Katiya Penny | D47: 0.38436944 | E47: 0.41504583 | F47: 44:10.44 | G47: 37 | H47: F | I47: 5k

Sheet Sheet3
A1: 5K Age Group Results for Male 14-17 based on Gun Elapsed time
A3: Place | B3: Bib # | C3: Name | D3: Gun Start | E3: Finish | F3: Gun Elapsed | G3: Age | H3: Gender | I3: Division
A4: 13 | B4: 346 | C4: Ciaran Smyth | D4: 0.384375 | E4: 0.4009838 | F4: 23:55.67 | G4: 17 | H4: M | I4: 5k
A6: ="5k Age Group Results for "&(IF(H9="M","Male","Female"))&" "&MIN(G9:G14)&"-"&MAX(G9:G14)&" based on Gun Elapsed Time" -> 5k Age Group Results for Female 18-21 based on Gun Elapsed Time
A8: Place | B8: Bib # | C8: Name | D8: Gun Start | E8: Finish | F8: Gun Elapsed | G8: Age | H8: Gender | I8: Division
A9: 17 | B9: 343 | C9: Julianne Paris | D9: =_xlfn.XLOOKUP(A9,Sheet1!$A$1:$A$47,Sheet1!$D$1:$D$47,"n/a",0) -> 0.38436944 | E9: =_xlfn.XLOOKUP(A9,Sheet1!$A$1:$A$47,Sheet1!$E$1:$E$47,"n/a",0) -> 0.40156644 | F9: 24:45.81 | G9: 18 | H9: F | I9: 5k
A10: 33 | B10: 317 | C10: Gabriela Ratteray | D10: =_xlfn.XLOOKUP(A10,Sheet1!$A$1:$A$47,Sheet1!$D$1:$D$47,"n/a",0) -> 0.38436944 | E10: =_xlfn.XLOOKUP(A10,Sheet1!$A$1:$A$47,Sheet1!$E$1:$E$47,"n/a",0) -> 0.40519896 | F10: 29:59.66 | G10: 21 | H10: F | I10: 5k
A11: 35 | B11: 339 | C11: Emily Lucas | D11: =_xlfn.XLOOKUP(A11,Sheet1!$A$1:$A$47,Sheet1!$D$1:$D$47,"n/a",0) -> 0.38436944 | E11: =_xlfn.XLOOKUP(A11,Sheet1!$A$1:$A$47,Sheet1!$E$1:$E$47,"n/a",0) -> 0.40548194 | F11: 30:24.11 | G11: 19 | H11: F | I11: 5k
A12: 36 | B12: 338 | C12: Alina Sorensen | D12: =_xlfn.XLOOKUP(A12,Sheet1!$A$1:$A$47,Sheet1!$D$1:$D$47,"n/a",0) -> 0.38436944 | E12: =_xlfn.XLOOKUP(A12,Sheet1!$A$1:$A$47,Sheet1!$E$1:$E$47,"n/a",0) -> 0.40548623 | F12: 30:24.49 | G12: 21 | H12: F | I12: 5k
A13: 37 | B13: 340 | C13: Katy Bayer | D13: =_xlfn.XLOOKUP(A13,Sheet1!$A$1:$A$47,Sheet1!$D$1:$D$47,"n/a",0) -> 0.38436944 | E13: =_xlfn.XLOOKUP(A13,Sheet1!$A$1:$A$47,Sheet1!$E$1:$E$47,"n/a",0) -> 0.40554757 | F13: 30:29.78 | G13: 19 | H13: F | I13: 5k
A14: 39 | B14: 312 | C14: RaeAnne Prentice | D14: =_xlfn.XLOOKUP(A14,Sheet1!$A$1:$A$47,Sheet1!$D$1:$D$47,"n/a",0) -> 0.38436944 | E14: =_xlfn.XLOOKUP(A14,Sheet1!$A$1:$A$47,Sheet1!$E$1:$E$47,"n/a",0) -> 0.40597431 | F14: 31:06.65 | G14: 20 | H14: F | I14: 5k
A16: ="5k Age Group Results for "&(IF(H19="M","Male","Female"))&" "&MIN(G19:G24)&"-"&MAX(G19:G24)&" based on Gun Elapsed Time" -> 5k Age Group Results for Male 18-21 based on Gun Elapsed Time
A18: Place | B18: Bib # | C18: Name | D18: Gun Start | E18: Finish | F18: Gun Elapsed | G18: Age | H18: Gender | I18: Division
A19: 2 | B19: 324 | C19: Timothy Misungwi | D19: =_xlfn.XLOOKUP(A19,Sheet1!$A$1:$A$47,Sheet1!$D$1:$D$47,"n/a",0) -> 0.38436944 | E19: =_xlfn.XLOOKUP(A19,Sheet1!$A$1:$A$47,Sheet1!$E$1:$E$47,"n/a",0) -> 0.39698125 | F19: 18:09.65 | G19: 21 | H19: M | I19: 5k
A20: 4 | B20: 345 | C20: Jeshua Sorensen | D20: =_xlfn.XLOOKUP(A20,Sheet1!$A$1:$A$47,Sheet1!$D$1:$D$47,"n/a",0) -> 0.38436944 | E20: =_xlfn.XLOOKUP(A20,Sheet1!$A$1:$A$47,Sheet1!$E$1:$E$47,"n/a",0) -> 0.39876053 | F20: 20:43.38 | G20: 18 | H20: M | I20: 5k
A21: 7 | B21: 335 | C21: Ryan Reinhardt | D21: =_xlfn.XLOOKUP(A21,Sheet1!$A$1:$A$47,Sheet1!$D$1:$D$47,"n/a",0) -> 0.38436944 | E21: =_xlfn.XLOOKUP(A21,Sheet1!$A$1:$A$47,Sheet1!$E$1:$E$47,"n/a",0) -> 0.39981713 | F21: 22:14.67 | G21: 19 | H21: M | I21: 5k
A22: 9 | B22: 349 | C22: Micah Dale | D22: =_xlfn.XLOOKUP(A22,Sheet1!$A$1:$A$47,Sheet1!$D$1:$D$47,"n/a",0) -> 0.38436944 | E22: =_xlfn.XLOOKUP(A22,Sheet1!$A$1:$A$47,Sheet1!$E$1:$E$47,"n/a",0) -> 0.40019884 | F22: 22:47.65 | G22: 20 | H22: M | I22: 5k
A23: 21 | B23: 350 | C23: Noah Myers | D23: =_xlfn.XLOOKUP(A23,Sheet1!$A$1:$A$47,Sheet1!$D$1:$D$47,"n/a",0) -> 0.38436944 | E23: =_xlfn.XLOOKUP(A23,Sheet1!$A$1:$A$47,Sheet1!$E$1:$E$47,"n/a",0) -> 0.40250914 | F23: 26:07.26 | G23: 18 | H23: M | I23: 5k
A25: ="5k Age Group Results for "&(IF(H28="M","Male","Female"))&" "&MIN(G28:G33)&"-"&MAX(G28:G33)&" based on Gun Elapsed Time" -> 5k Age Group Results for Female 23-23 based on Gun Elapsed Time
A27: Place | B27: Bib # | C27: Name | D27: Gun Start | E27: Finish | F27: Gun Elapsed | G27: Age | H27: Gender | I27: Division
A28: 34 | B28: 301 | C28: Simone Jones | D28: =_xlfn.XLOOKUP(A28,Sheet1!$A$1:$A$47,Sheet1!$D$1:$D$47,"n/a",0) -> 0.38436944 | E28: =_xlfn.XLOOKUP(A28,Sheet1!$A$1:$A$47,Sheet1!$E$1:$E$47,"n/a",0) -> 0.40533565 | F28: 30:11.47 | G28: 23 | H28: F | I28: 5k
A29: 41 | B29: 342 | C29: Arianna Pellegrini | D29: =_xlfn.XLOOKUP(A29,Sheet1!$A$1:$A$47,Sheet1!$D$1:$D$47,"n/a",0) -> 0.38436944 | E29: =_xlfn.XLOOKUP(A29,Sheet1!$A$1:$A$47,Sheet1!$E$1:$E$47,"n/a",0) -> 0.40756933 | F29: 33:24.46 | G29: 23 | H29: F | I29: 5k
A31: ="5k Age Group Results for "&(IF(H34="M","Male","Female"))&" "&MIN(G34:G39)&"-"&MAX(G34:G39)&" based on Gun Elapsed Time" -> 5k Age Group Results for Male 22-25 based on Gun Elapsed Time
A33: Place | B33: Bib # | C33: Name | D33: Gun Start | E33: Finish | F33: Gun Elapsed | G33: Age | H33: Gender | I33: Division
A34: 3 | B34: 304 | C34: Aaron Leffler | D34: =_xlfn.XLOOKUP(A34,Sheet1!$A$1:$A$47,Sheet1!$D$1:$D$47,"n/a",0) -> 0.38436944 | E34: =_xlfn.XLOOKUP(A34,Sheet1!$A$1:$A$47,Sheet1!$E$1:$E$47,"n/a",0) -> 0.3985353 | F34: 20:23.92 | G34: 23 | H34: M | I34: 5k
A35: 8 | B35: 348 | C35: Nathan Dale | D35: =_xlfn.XLOOKUP(A35,Sheet1!$A$1:$A$47,Sheet1!$D$1:$D$47,"n/a",0) -> 0.38436944 | E35: =_xlfn.XLOOKUP(A35,Sheet1!$A$1:$A$47,Sheet1!$E$1:$E$47,"n/a",0) -> 0.39996227 | F35: 22:27.22 | G35: 23 | H35: M | I35: 5k
A36: 14 | B36: 330 | C36: Seth McKelvey | D36: =_xlfn.XLOOKUP(A36,Sheet1!$A$1:$A$47,Sheet1!$D$1:$D$47,"n/a",0) -> 0.38436944 | E36: =_xlfn.XLOOKUP(A36,Sheet1!$A$1:$A$47,Sheet1!$E$1:$E$47,"n/a",0) -> 0.40112581 | F36: 24:07.74 | G36: 22 | H36: M | I36: 5k
A37: 20 | B37: 327 | C37: Brennan Katsuren | D37: =_xlfn.XLOOKUP(A37,Sheet1!$A$1:$A$47,Sheet1!$D$1:$D$47,"n/a",0) -> 0.38436944 | E37: =_xlfn.XLOOKUP(A37,Sheet1!$A$1:$A$47,Sheet1!$E$1:$E$47,"n/a",0) -> 0.40244954 | F37: 26:02.11 | G37: 25 | H37: M | I37: 5k
A38: 29 | B38: 336 | C38: Evan Keyes | D38: =_xlfn.XLOOKUP(A38,Sheet1!$A$1:$A$47,Sheet1!$D$1:$D$47,"n/a",0) -> 0.38436944 | E38: =_xlfn.XLOOKUP(A38,Sheet1!$A$1:$A$47,Sheet1!$E$1:$E$47,"n/a",0) -> 0.40411157 | F38: 28:25.72 | G38: 22 | H38: M | I38: 5k
A40: ="5k Age Group Results for "&(IF(H43="M","Male","Female"))&" "&MIN(G43:G48)&"-"&MAX(G43:G48)&" based on Gun Elapsed Time" -> 5k Age Group Results for Male 26-28 based on Gun Elapsed Time
A42: Place | B42: Bib # | C42: Name | D42: Gun Start | E42: Finish | F42: Gun Elapsed | G42: Age | H42: Gender | I42: Division
A43: 10 | B43: 337 | C43: Eric Inae | D43: =_xlfn.XLOOKUP(A43,Sheet1!$A$1:$A$47,Sheet1!$D$1:$D$47,"n/a",0) -> 0.38436944 | E43: =_xlfn.XLOOKUP(A43,Sheet1!$A$1:$A$47,Sheet1!$E$1:$E$47,"n/a",0) -> 0.40031204 | F43: 22:57.43 | G43: 26 | H43: M | I43: 5k
A44: 11 | B44: 344 | C44: Erick Baez | D44: =_xlfn.XLOOKUP(A44,Sheet1!$A$1:$A$47,Sheet1!$D$1:$D$47,"n/a",0) -> 0.38436944 | E44: =_xlfn.XLOOKUP(A44,Sheet1!$A$1:$A$47,Sheet1!$E$1:$E$47,"n/a",0) -> 0.400314 | F44: 22:57.61 | G44: 26 | H44: M | I44: 5k
A45: 15 | B45: 326 | C45: Stanley Myrtil | D45: =_xlfn.XLOOKUP(A45,Sheet1!$A$1:$A$47,Sheet1!$D$1:$D$47,"n/a",0) -> 0.38436944 | E45: =_xlfn.XLOOKUP(A45,Sheet1!$A$1:$A$47,Sheet1!$E$1:$E$47,"n/a",0) -> 0.40127465 | F45: 24:20.60 | G45: 28 | H45: M | I45: 5k
A46: 31 | B46: 328 | C46: Lucas Bueno | D46: =_xlfn.XLOOKUP(A46,Sheet1!$A$1:$A$47,Sheet1!$D$1:$D$47,"n/a",0) -> 0.38436944 | E46: =_xlfn.XLOOKUP(A46,Sheet1!$A$1:$A$47,Sheet1!$E$1:$E$47,"n/a",0) -> 0.40498634 | F46: 29:41.29 | G46: 26 | H46: M | I46: 5k
A47: 32 | B47: 318 | C47: Leonardo Saavedra | D47: =_xlfn.XLOOKUP(A47,Sheet1!$A$1:$A$47,Sheet1!$D$1:$D$47,"n/a",0) -> 0.38436944 | E47: =_xlfn.XLOOKUP(A47,Sheet1!$A$1:$A$47,Sheet1!$E$1:$E$47,"n/a",0) -> 0.40519155 | F47: 29:59.02 | G47: 26 | H47: M | I47: 5k
A49: ="5k Age Group Results for "&(IF(H52="M","Male","Female"))&" "&MIN(G52:G57)&"-"&MAX(G52:G57)&" based on Gun Elapsed Time" -> 5k Age Group Results for Female 30-31 based on Gun Elapsed Time
A51: Place | B51: Bib # | C51: Name | D51: Gun Start | E51: Finish | F51: Gun Elapsed | G51: Age | H51: Gender | I51: Division
A52: 30 | B52: 316 | C52: Daniela Powell | D52: =_xlfn.XLOOKUP(A52,Sheet1!$A$1:$A$47,Sheet1!$D$1:$D$47,"n/a",0) -> 0.38436944 | E52: =_xlfn.XLOOKUP(A52,Sheet1!$A$1:$A$47,Sheet1!$E$1:$E$47,"n/a",0) -> 0.40451493 | F52: 29:00.57 | G52: 31 | H52: F | I52: 5k
A54: ="5k Age Group Results for "&(IF(H57="M","Male","Female"))&" "&MIN(G57:G62)&"-"&MAX(G57:G62)&" based on Gun Elapsed Time" -> 5k Age Group Results for Male 30-33 based on Gun Elapsed Time
...
